BEGIN:VCALENDAR
VERSION:2.0
PRODID:-//CAP – Centre d’animation socioculturelle Palinzard - ECPv6.15.20//NONSGML v1.0//EN
CALSCALE:GREGORIAN
METHOD:PUBLISH
X-WR-CALNAME:CAP – Centre d’animation socioculturelle Palinzard
X-ORIGINAL-URL:https://cap-epalinges.ch
X-WR-CALDESC:Évènements pour CAP – Centre d’animation socioculturelle Palinzard
REFRESH-INTERVAL;VALUE=DURATION:PT1H
X-Robots-Tag:noindex
X-PUBLISHED-TTL:PT1H
BEGIN:VTIMEZONE
TZID:Europe/Zurich
BEGIN:DAYLIGHT
TZOFFSETFROM:+0100
TZOFFSETTO:+0200
TZNAME:CEST
DTSTART:20250330T010000
END:DAYLIGHT
BEGIN:STANDARD
TZOFFSETFROM:+0200
TZOFFSETTO:+0100
TZNAME:CET
DTSTART:20251026T010000
END:STANDARD
BEGIN:DAYLIGHT
TZOFFSETFROM:+0100
TZOFFSETTO:+0200
TZNAME:CEST
DTSTART:20260329T010000
END:DAYLIGHT
BEGIN:STANDARD
TZOFFSETFROM:+0200
TZOFFSETTO:+0100
TZNAME:CET
DTSTART:20261025T010000
END:STANDARD
BEGIN:DAYLIGHT
TZOFFSETFROM:+0100
TZOFFSETTO:+0200
TZNAME:CEST
DTSTART:20270328T010000
END:DAYLIGHT
BEGIN:STANDARD
TZOFFSETFROM:+0200
TZOFFSETTO:+0100
TZNAME:CET
DTSTART:20271031T010000
END:STANDARD
END:VTIMEZONE
BEGIN:VEVENT
DTSTART;TZID=Europe/Zurich:20260421T120000
DTEND;TZID=Europe/Zurich:20260421T134500
DTSTAMP:20260421T080226
CREATED:20250409T164912Z
LAST-MODIFIED:20260304T104334Z
UID:10020444-1776772800-1776779100@cap-epalinges.ch
SUMMARY:Réfectoire de Bois-Murat
DESCRIPTION:Pendant le repas de midi au réfectoire scolaire de Bois-Murat\, une animatrice ou un animateur socioculturel-le secondé-e par deux animateurs auxiliaires sont présents-e-s. Elles et ils mangent avec les enfants et sont à leur disposition pour d’éventuelles questions et préoccupations.\nPuis\, de 12h30 à 13h45\, des animations sont proposées sous la forme d’un accueil libre. \n Infos complètes ici
URL:https://cap-epalinges.ch/event/refectoire-de-bois-murat-2/2026-04-21/
CATEGORIES:2.events récurrents
END:VEVENT
BEGIN:VEVENT
DTSTART;TZID=Europe/Zurich:20260421T153000
DTEND;TZID=Europe/Zurich:20260421T180000
DTSTAMP:20260421T080226
CREATED:20250409T170207Z
LAST-MODIFIED:20260304T104746Z
UID:10020536-1776785400-1776794400@cap-epalinges.ch
SUMMARY:Jeux et goûter au Préau
DESCRIPTION:Les lundis\, mardis\, jeudis et vendredis deux animatrices et animateurs socioculturel-le-s sont présent-e-s dans le préau de 15h30 à 18h.\nDu matériel de jeu est mis à disposition et un goûter est offert. Il s’agit d’un accueil libre proposé principalement à l’extérieur qui adapte ses activités au fil des saisons. \n Infos complètes ici
URL:https://cap-epalinges.ch/event/jeux-et-gouter-au-preau-2/2026-04-21/
CATEGORIES:2.events récurrents
END:VEVENT
END:VCALENDAR