BEGIN:VCALENDAR
VERSION:2.0
PRODID:-//CAP – Centre d’animation socioculturelle Palinzard - ECPv6.15.20//NONSGML v1.0//EN
CALSCALE:GREGORIAN
METHOD:PUBLISH
X-WR-CALNAME:CAP – Centre d’animation socioculturelle Palinzard
X-ORIGINAL-URL:https://cap-epalinges.ch
X-WR-CALDESC:Évènements pour CAP – Centre d’animation socioculturelle Palinzard
REFRESH-INTERVAL;VALUE=DURATION:PT1H
X-Robots-Tag:noindex
X-PUBLISHED-TTL:PT1H
BEGIN:VTIMEZONE
TZID:Europe/Zurich
BEGIN:DAYLIGHT
TZOFFSETFROM:+0100
TZOFFSETTO:+0200
TZNAME:CEST
DTSTART:20250330T010000
END:DAYLIGHT
BEGIN:STANDARD
TZOFFSETFROM:+0200
TZOFFSETTO:+0100
TZNAME:CET
DTSTART:20251026T010000
END:STANDARD
BEGIN:DAYLIGHT
TZOFFSETFROM:+0100
TZOFFSETTO:+0200
TZNAME:CEST
DTSTART:20260329T010000
END:DAYLIGHT
BEGIN:STANDARD
TZOFFSETFROM:+0200
TZOFFSETTO:+0100
TZNAME:CET
DTSTART:20261025T010000
END:STANDARD
BEGIN:DAYLIGHT
TZOFFSETFROM:+0100
TZOFFSETTO:+0200
TZNAME:CEST
DTSTART:20270328T010000
END:DAYLIGHT
BEGIN:STANDARD
TZOFFSETFROM:+0200
TZOFFSETTO:+0100
TZNAME:CET
DTSTART:20271031T010000
END:STANDARD
END:VTIMEZONE
BEGIN:VEVENT
DTSTART;TZID=Europe/Zurich:20260513T060000
DTEND;TZID=Europe/Zurich:20260513T230000
DTSTAMP:20260422T091424
CREATED:20260307T162626Z
LAST-MODIFIED:20260307T162853Z
UID:10020763-1778652000-1778713200@cap-epalinges.ch
SUMMARY:Europapark - Sortie COMPLETE
DESCRIPTION:Si nous ne la proposions pas… vous nous en voudriez ! Et\, on vous comprend. Une journée intense et remplie de sensations fortes entre ami·e·x·s vous attends \n\nL’accueil libre est fermé à cette occasion! \n\n\n\n\n\nRDV: à 6h sur le parking de la Croix-Blanche \nRetour : vers 23h sur le parking de la Croix-Blanche \nPrix : CHf 50.- Sont inclus dans le prix : transport en car + entrée au parc \nA ta charge : Le repas de midi\, tu as la possibilité de prendre un pique-nique ou d’acheter à manger à un stand\, sur place (dans ce cas\, prévoir des euros. \nDélai d’inscription : mercredi 29 avril \nParticipant·e·x·s : min.12 / max.70 \nIMPORTANT : le parc se situe en Allemagne\, tu dois absolument avoir avec toi une pièce d’identité ou un passeport valable
URL:https://cap-epalinges.ch/event/europapark-sortie-complete-2/
LOCATION:Europapark\, Europa-Park-Straße 2\, Rust\, 77977
CATEGORIES:Les sorties
ATTACH;FMTTYPE=image/jpeg:https://cap-epalinges.ch/wp-content/uploads/2026/03/vacation-island-outdoor-universal-view-2.jpg
END:VEVENT
BEGIN:VEVENT
DTSTART;TZID=Europe/Zurich:20260530T093000
DTEND;TZID=Europe/Zurich:20260530T173000
DTSTAMP:20260422T091424
CREATED:20260307T163518Z
LAST-MODIFIED:20260307T163518Z
UID:10020764-1780133400-1780162200@cap-epalinges.ch
SUMMARY:Stage d'autodéfense Fem Do Chi
DESCRIPTION:La méthode Fem Do Chi vise à améliorer la capacité des femmes et des adolescentes à s’affirmer\, à se faire respecter et à se protéger au quotidien. Les techniques et outils proposés sont adaptés à toutes les femmes\, et adaptables à toutes les situations\nd’inconfort\, d’abus ou de danger que celles-ci peuvent vivre. La méthode s’articule autour d’une réflexion sur les spécificités des violences faites aux femmes et sur l’influence de l’éducation et de la socialisation différenciée en fonction du genre. Le cadre en collectivité vise à créer une dynamique qui favorise la confiance et l’estime de soi et le développement de ses compétences\, ainsi que la solidarité entre femmes. A travers des échanges d’expériences et de savoirs spécifiques\, chacune peut identifier et agir sur ses peurs. \n\n\n\n\n\nHoraires : de 9h30 à 17h30 \nCet atelier est très largement subventionné par le CAP\, une participation symbolique de 20.- est demandée par personne. \nInscription : jusqu’au 16 mai 2026
URL:https://cap-epalinges.ch/event/stage-dautodefense-fem-do-chi/
LOCATION:Europapark\, Europa-Park-Straße 2\, Rust\, 77977
CATEGORIES:Les sorties
ATTACH;FMTTYPE=image/jpeg:https://cap-epalinges.ch/wp-content/uploads/2026/03/8646-scaled.jpg
END:VEVENT
END:VCALENDAR