BEGIN:VCALENDAR
VERSION:2.0
PRODID:-//CAP – Centre d’animation socioculturelle Palinzard - ECPv6.15.20//NONSGML v1.0//EN
CALSCALE:GREGORIAN
METHOD:PUBLISH
X-ORIGINAL-URL:https://cap-epalinges.ch
X-WR-CALDESC:Évènements pour CAP – Centre d’animation socioculturelle Palinzard
REFRESH-INTERVAL;VALUE=DURATION:PT1H
X-Robots-Tag:noindex
X-PUBLISHED-TTL:PT1H
BEGIN:VTIMEZONE
TZID:Europe/Zurich
BEGIN:DAYLIGHT
TZOFFSETFROM:+0100
TZOFFSETTO:+0200
TZNAME:CEST
DTSTART:20250330T010000
END:DAYLIGHT
BEGIN:STANDARD
TZOFFSETFROM:+0200
TZOFFSETTO:+0100
TZNAME:CET
DTSTART:20251026T010000
END:STANDARD
BEGIN:DAYLIGHT
TZOFFSETFROM:+0100
TZOFFSETTO:+0200
TZNAME:CEST
DTSTART:20260329T010000
END:DAYLIGHT
BEGIN:STANDARD
TZOFFSETFROM:+0200
TZOFFSETTO:+0100
TZNAME:CET
DTSTART:20261025T010000
END:STANDARD
BEGIN:DAYLIGHT
TZOFFSETFROM:+0100
TZOFFSETTO:+0200
TZNAME:CEST
DTSTART:20270328T010000
END:DAYLIGHT
BEGIN:STANDARD
TZOFFSETFROM:+0200
TZOFFSETTO:+0100
TZNAME:CET
DTSTART:20271031T010000
END:STANDARD
END:VTIMEZONE
BEGIN:VEVENT
DTSTART;VALUE=DATE:20260621
DTEND;VALUE=DATE:20260622
DTSTAMP:20260422T103923
CREATED:20260307T163725Z
LAST-MODIFIED:20260307T163836Z
UID:10020765-1782000000-1782086399@cap-epalinges.ch
SUMMARY:Fête de la Musique 2026
DESCRIPTION:Tu es invité·e·x à participer à la Fête de la Musique. Cette Fête aura lieu le dimanche 21 juin sur la place des fêtes. Pendant cet évènement\, tu pourras par exemple :\n• Nous aider à notre stand de vente de sirops !\n• Monter sur scène et chanter\, ou danser\, ou jouer d’un instrument ! \n\n\n\n\n• Te déguiser en star et défiler sur un tapis rouge ! • Écouter pleins de concerts ! \n\n\n\n\nPour participer\, adresse-toi directement aux animateurices
URL:https://cap-epalinges.ch/event/fete-de-la-musique-2026/
LOCATION:Place de la Croix-Blanche\, Place Croix-Blanche\, Épalinges\, 1066\, Suisse
CATEGORIES:CAP Jeunes,CAP Pour Tous,Les sorties
ATTACH;FMTTYPE=image/jpeg:https://cap-epalinges.ch/wp-content/uploads/2025/02/PHOTO-2024-01-15-15-57-41.jpg
END:VEVENT
END:VCALENDAR